BEGIN:VCALENDAR
VERSION:2.0
PRODID:-//Contratero//ES
CALSCALE:GREGORIAN
METHOD:PUBLISH
BEGIN:VEVENT
UID:000001/2020 CON-MYT@contratero.es
DTSTAMP:20260425T111628Z
DTSTART:20210201T235959
DTEND:20210202T005959
SUMMARY:Cierre: Servicio de Mantenimiento Integral de los siguient
DESCRIPTION:Servicio de Mantenimiento Integral de los siguientes  equipos y sistema de gestión para el repostaje de combustible gasóleo de automoción\, sitos en los Garajes del SMYT de Carretera Poza\\n\\nOrganismo: Consejo de Administración del Servicio Municipalizado de Movilidad y Transportes del Ayuntamiento de Burgos\\n\\nVer en Contratero: https://contratero.es/contracts/000001/2020 CON-MYT
URL:https://contratero.es/contracts/000001/2020 CON-MYT
STATUS:CONFIRMED
BEGIN:VALARM
TRIGGER:-P1D
ACTION:DISPLAY
DESCRIPTION:Recordatorio: Servicio de Mantenimiento Inte
END:VALARM
END:VEVENT
END:VCALENDAR